BEGIN:VCALENDAR
VERSION:2.0
PRODID:-//Center for Substance Use Training &amp; Telementoring
 //NONSGML Events //EN
CALSCALE:GREGORIAN
BEGIN:VEVENT
CREATED:20250528T170909Z
UID:2503
DTEND;VALUE=DATE:20260303T000000
DTSTART;VALUE=DATE:20260302T080000
DTSTAMP:20260421T083813Z
LOCATION:
DESCRIPTION:Registration is now open for the <strong>2026 Texas Substance Use Symposium (TxSUS)</strong>! Join us <strong>March 2–3, 2026</strong>, at the Henry B. Gonzalez Convention Center in San Antonio, TX, for two days of learning, collaboration, and connection.Registration closes February 16, 2026, or when capacity is reached. Save your spot early!For additional information, visit: <a href="https://txsus.org/registration/">TxSUS.org/Registration</a>&nbsp;&nbsp;&nbsp;
X-ALT-DESC;FMTTYPE=text/html:Registration is now open for the <strong>2026 Texas Substance Use Symposium (TxSUS)</strong>! Join us <strong>March 2–3, 2026</strong>, at the Henry B. Gonzalez Convention Center in San Antonio, TX, for two days of learning, collaboration, and connection.<br /><br />Registration closes February 16, 2026, or when capacity is reached. Save your spot early!<br /><br />For additional information, visit: <a href="https://txsus.org/registration/">TxSUS.org/Registration</a><br /><br />&nbsp;<br /><br />&nbsp;<br /><br />&nbsp;
SUMMARY:2026 Texas Substance Use Symposium
URL;VALUE=URI:https://c-stat.uthscsa.edu/events/2026-texas-substance-use-symposium/
TRANSP:OPAQUE
END:VEVENT
END:VCALENDAR
